BEGIN:VCALENDAR
VERSION:2.0
PRODID:-//Tukios.com/
BEGIN:VEVENT
UID:72e5068d-fe87-4e5e-8802-bdda1e877b08@www.bryantfuneralhome.net
DTSTAMP:20260421T235249Z
DTSTART:20260428T170000Z
DTEND:20260428T180000Z
SUMMARY:Funeral Service
DESCRIPTION:
URL:https://www.bryantfuneralhome.net/obituaries/richard-ouellette
LOCATION:Bryant Funeral Home 180 Hillside Avenue  Berlin NH 03570
GEO:44.4743161;-71.1819686
END:VEVENT
END:VCALENDAR