BEGIN:VCALENDAR
VERSION:2.0
PRODID:-//Tukios.com/
BEGIN:VEVENT
UID:a658bbe1-5646-45bd-974e-f20ba78a4e10@www.bryantfuneralhome.net
DTSTAMP:20260421T234741Z
DTSTART:20260428T150000Z
DTEND:20260428T170000Z
SUMMARY:Visitation
DESCRIPTION:
URL:https://www.bryantfuneralhome.net/obituaries/richard-ouellette
LOCATION:Bryant Funeral Home 180 Hillside Avenue  Berlin NH 03570
GEO:44.4743161;-71.1819686
END:VEVENT
END:VCALENDAR