BEGIN:VCALENDAR
VERSION:2.0
PRODID:-//Tukios.com/
BEGIN:VEVENT
UID:d649831d-204e-4970-9f61-e7c814d574a1@www.bryantfuneralhome.net
DTSTAMP:20260421T160000Z
DTSTART:20260501T140000Z
DTEND:20260501T150000Z
SUMMARY:Graveside Service
DESCRIPTION:
URL:https://www.bryantfuneralhome.net/obituaries/richard-garris
LOCATION:Old Stillwater Cemetery 928 Maple Avenue  Stillwater Township NJ 
	07860
GEO:41.0321726;-74.8830167
END:VEVENT
END:VCALENDAR