BEGIN:VCALENDAR
VERSION:2.0
PRODID:-//Tukios.com/
BEGIN:VEVENT
UID:c6cad212-c3ae-4a5e-808d-28b0a9b36003@www.bryantfuneralhome.net
DTSTAMP:20260419T170430Z
DTSTART:20260501T170000Z
DTEND:20260501T173000Z
SUMMARY:Graveside Service
DESCRIPTION:
URL:https://www.bryantfuneralhome.net/obituaries/priscilla-roy
LOCATION: 76 Hill Road  Dummer NH 03588
GEO:44.6391715;-71.213354
END:VEVENT
END:VCALENDAR