BEGIN:VCALENDAR
VERSION:2.0
PRODID:-//Tukios.com/
BEGIN:VEVENT
UID:be38db85-97c6-4ef0-a384-fd0cfc6d6413@www.bryantfuneralhome.net
DTSTAMP:20260424T192127Z
DTSTART:20260504T170000Z
DTEND:20260504T180000Z
SUMMARY:Funeral Service
DESCRIPTION:
URL:https://www.bryantfuneralhome.net/obituaries/doris-nicolettie
LOCATION:Bryant Funeral Home 180 Hillside Avenue  Berlin NH 03570
GEO:44.4743161;-71.1819686
END:VEVENT
END:VCALENDAR