BEGIN:VCALENDAR
VERSION:2.0
PRODID:-//Tukios.com/
BEGIN:VEVENT
UID:f7503382-7318-4bb5-a587-2b77e01117e3@www.bryantfuneralhome.net
DTSTAMP:20260424T191648Z
DTSTART:20260504T170000Z
DTEND:20260504T180000Z
SUMMARY:Interment
DESCRIPTION:
URL:https://www.bryantfuneralhome.net/obituaries/doris-nicolettie
LOCATION:St. Kieran’s Cemetery 155 Emery Street  Berlin NH 03570
GEO:44.4732674;-71.181938
END:VEVENT
END:VCALENDAR